BEGIN:VCALENDAR
VERSION:2.0
METHOD:PUBLISH
PRODID:-//RUNACADEMY AB//SV
BEGIN:VTIMEZONE
TZID:Europe/Stockholm
BEGIN:STANDARD
DTSTART:20231029T020000
TZOFFSETFROM:+0200
TZOFFSETTO:+0100
TZNAME:CET
RRULE:FREQ=YEARLY;INTERVAL=1;BYDAY=-1SU;BYMONTH=10
END:STANDARD
BEGIN:DAYLIGHT
DTSTART:20230326T010000
TZOFFSETFROM:+0100
TZOFFSETTO:+0200
TZNAME:CEST
RRULE:FREQ=YEARLY;INTERVAL=1;BYDAY=-1SU;BYMONTH=3
END:DAYLIGHT
END:VTIMEZONE
BEGIN:VEVENT
UID:95e448adda3581a001c00857e7272f28
DTSTAMP:20260419T125043Z
DTSTART;TZID=Europe/Stockholm:20260324T180000
DTEND;TZID=Europe/Stockholm:20260324T191500
SUMMARY:Pass 1 - Runacademy Malmö - Bulltofta
LOCATION:Bulltofta Motionscenter
SEQUENCE:0
END:VEVENT
BEGIN:VEVENT
UID:80f21e42a4d1783c33a69359a5fc4398
DTSTAMP:20260419T125043Z
DTSTART;TZID=Europe/Stockholm:20260331T180000
DTEND;TZID=Europe/Stockholm:20260331T191500
SUMMARY:Pass 2 - Runacademy Malmö - Bulltofta
LOCATION:Bulltofta Motionscenter
SEQUENCE:0
END:VEVENT
BEGIN:VEVENT
UID:40c1294d4afa293d6d26523f4d5008c7
DTSTAMP:20260419T125043Z
DTSTART;TZID=Europe/Stockholm:20260407T180000
DTEND;TZID=Europe/Stockholm:20260407T191500
SUMMARY:Pass 3 - Runacademy Malmö - Bulltofta
LOCATION:Bulltofta Motionscenter
SEQUENCE:0
END:VEVENT
BEGIN:VEVENT
UID:ec0244c2c2394f211a32b0813d454c30
DTSTAMP:20260419T125043Z
DTSTART;TZID=Europe/Stockholm:20260414T180000
DTEND;TZID=Europe/Stockholm:20260414T191500
SUMMARY:Pass 4 - Runacademy Malmö - Bulltofta
LOCATION:Bulltofta Motionscenter
SEQUENCE:0
END:VEVENT
BEGIN:VEVENT
UID:29c5c9dbd661f1d582285ab42fe095fc
DTSTAMP:20260419T125043Z
DTSTART;TZID=Europe/Stockholm:20260421T180000
DTEND;TZID=Europe/Stockholm:20260421T191500
SUMMARY:Pass 5 - Runacademy Malmö - Bulltofta
LOCATION:Bulltofta Motionscenter
SEQUENCE:0
END:VEVENT
BEGIN:VEVENT
UID:39f2af347f851178da312a93b7118656
DTSTAMP:20260419T125043Z
DTSTART;TZID=Europe/Stockholm:20260428T180000
DTEND;TZID=Europe/Stockholm:20260428T191500
SUMMARY:Pass 6 - Runacademy Malmö - Bulltofta
LOCATION:Torups Friluftsgård
SEQUENCE:0
END:VEVENT
BEGIN:VEVENT
UID:bb61cb532ac392458cdf00fee8c2761c
DTSTAMP:20260419T125043Z
DTSTART;TZID=Europe/Stockholm:20260505T180000
DTEND;TZID=Europe/Stockholm:20260505T191500
SUMMARY:Pass 7 - Runacademy Malmö - Bulltofta
LOCATION:Bulltofta Motionscenter
SEQUENCE:0
END:VEVENT
BEGIN:VEVENT
UID:6c98d4738b3fc1322dacae7c2da1112a
DTSTAMP:20260419T125043Z
DTSTART;TZID=Europe/Stockholm:20260510T100000
DTEND;TZID=Europe/Stockholm:20260510T111500
SUMMARY:Extrapass - Runacademy Malmö - Bulltofta
LOCATION:Risen, Genarp
SEQUENCE:0
END:VEVENT
BEGIN:VEVENT
UID:1ce70eaf92b2038d62ec864889d1717e
DTSTAMP:20260419T125043Z
DTSTART;TZID=Europe/Stockholm:20260512T180000
DTEND;TZID=Europe/Stockholm:20260512T191500
SUMMARY:Pass 8 - Runacademy Malmö - Bulltofta
LOCATION:Bulltofta Motionscenter
SEQUENCE:0
END:VEVENT
BEGIN:VEVENT
UID:68a76c0683adfd6141d1844b6d715d5c
DTSTAMP:20260419T125043Z
DTSTART;TZID=Europe/Stockholm:20260519T180000
DTEND;TZID=Europe/Stockholm:20260519T191500
SUMMARY:Pass 9 - Runacademy Malmö - Bulltofta
LOCATION:Bulltofta Motionscenter
SEQUENCE:0
END:VEVENT
BEGIN:VEVENT
UID:09a65766c6d2fc451fc5cef292529456
DTSTAMP:20260419T125043Z
DTSTART;TZID=Europe/Stockholm:20260526T180000
DTEND;TZID=Europe/Stockholm:20260526T191500
SUMMARY:Pass 10 - Runacademy Malmö - Bulltofta
LOCATION:Torups Friluftsgård
SEQUENCE:0
END:VEVENT
BEGIN:VEVENT
UID:29619f02dea03c1ce5b01b95f2af014e
DTSTAMP:20260419T125043Z
DTSTART;TZID=Europe/Stockholm:20260602T180000
DTEND;TZID=Europe/Stockholm:20260602T191500
SUMMARY:Pass 11 - Runacademy Malmö - Bulltofta
LOCATION:Bulltofta Motionscenter
SEQUENCE:0
END:VEVENT
BEGIN:VEVENT
UID:47a756c8bdd862836b6b571048413069
DTSTAMP:20260419T125043Z
DTSTART;TZID=Europe/Stockholm:20260609T180000
DTEND;TZID=Europe/Stockholm:20260609T191500
SUMMARY:Pass 12 - Runacademy Malmö - Bulltofta
LOCATION:Bulltofta Motionscenter
SEQUENCE:0
END:VEVENT
BEGIN:VEVENT
UID:20cdc883d7f0fbda4aab138e4c569ca9
DTSTAMP:20260419T125043Z
DTSTART;TZID=Europe/Stockholm:20260616T180000
DTEND;TZID=Europe/Stockholm:20260616T191500
SUMMARY:Pass 13 - Runacademy Malmö - Bulltofta
LOCATION:Bulltofta Motionscenter
SEQUENCE:0
END:VEVENT
END:VCALENDAR
