BEGIN:VCALENDAR
VERSION:2.0
METHOD:PUBLISH
PRODID:-//RUNACADEMY AB//SV
BEGIN:VTIMEZONE
TZID:Europe/Stockholm
BEGIN:STANDARD
DTSTART:20231029T020000
TZOFFSETFROM:+0200
TZOFFSETTO:+0100
TZNAME:CET
RRULE:FREQ=YEARLY;INTERVAL=1;BYDAY=-1SU;BYMONTH=10
END:STANDARD
BEGIN:DAYLIGHT
DTSTART:20230326T010000
TZOFFSETFROM:+0100
TZOFFSETTO:+0200
TZNAME:CEST
RRULE:FREQ=YEARLY;INTERVAL=1;BYDAY=-1SU;BYMONTH=3
END:DAYLIGHT
END:VTIMEZONE
BEGIN:VEVENT
UID:7b0af4ecc5be6deae189e52bba32b0e6
DTSTAMP:20260423T155402Z
DTSTART;TZID=Europe/Stockholm:20260324T181500
DTEND;TZID=Europe/Stockholm:20260324T193000
SUMMARY:Pass 1 - Runacademy Stockholm - Kungsholmen
LOCATION:Clarion Hotel Amaranten
SEQUENCE:0
END:VEVENT
BEGIN:VEVENT
UID:1a8d9acfa0f875a7a7f2ca37180d9f2b
DTSTAMP:20260423T155402Z
DTSTART;TZID=Europe/Stockholm:20260331T181500
DTEND;TZID=Europe/Stockholm:20260331T193000
SUMMARY:Pass 2 - Runacademy Stockholm - Kungsholmen
LOCATION:Clarion Hotel Amaranten
SEQUENCE:0
END:VEVENT
BEGIN:VEVENT
UID:ef16fb8e6ada7d393db1d475ef8adccb
DTSTAMP:20260423T155402Z
DTSTART;TZID=Europe/Stockholm:20260407T181500
DTEND;TZID=Europe/Stockholm:20260407T193000
SUMMARY:Pass 3 - Runacademy Stockholm - Kungsholmen
LOCATION:Clarion Hotel Amaranten
SEQUENCE:0
END:VEVENT
BEGIN:VEVENT
UID:c524502b505328cbab33433a194d91db
DTSTAMP:20260423T155402Z
DTSTART;TZID=Europe/Stockholm:20260414T181500
DTEND;TZID=Europe/Stockholm:20260414T193000
SUMMARY:Pass 4 - Runacademy Stockholm - Kungsholmen
LOCATION:Clarion Hotel Amaranten
SEQUENCE:0
END:VEVENT
BEGIN:VEVENT
UID:8fa0a6762772f8b0e47dcae7fb681bd9
DTSTAMP:20260423T155402Z
DTSTART;TZID=Europe/Stockholm:20260421T181500
DTEND;TZID=Europe/Stockholm:20260421T193000
SUMMARY:Pass 5 - Runacademy Stockholm - Kungsholmen
LOCATION:Clarion Hotel Amaranten
SEQUENCE:0
END:VEVENT
BEGIN:VEVENT
UID:8d3406084cffc79523ce6ba5ff65570a
DTSTAMP:20260423T155402Z
DTSTART;TZID=Europe/Stockholm:20260428T181500
DTEND;TZID=Europe/Stockholm:20260428T193000
SUMMARY:Pass 6 - Runacademy Stockholm - Kungsholmen
LOCATION:Karlbergs Slott
SEQUENCE:0
END:VEVENT
BEGIN:VEVENT
UID:cb6a2f6a9a149829a5c0951dddbb63b9
DTSTAMP:20260423T155402Z
DTSTART;TZID=Europe/Stockholm:20260505T181500
DTEND;TZID=Europe/Stockholm:20260505T193000
SUMMARY:Pass 7 - Runacademy Stockholm - Kungsholmen
LOCATION:Clarion Hotel Amaranten
SEQUENCE:0
END:VEVENT
BEGIN:VEVENT
UID:bda2bc6d9cc30b4b66e69128bb758457
DTSTAMP:20260423T155402Z
DTSTART;TZID=Europe/Stockholm:20260512T181500
DTEND;TZID=Europe/Stockholm:20260512T193000
SUMMARY:Pass 8 - Runacademy Stockholm - Kungsholmen
LOCATION:Clarion Hotel Amaranten
SEQUENCE:0
END:VEVENT
BEGIN:VEVENT
UID:3fc0199db2807234e648dafa29ff996b
DTSTAMP:20260423T155402Z
DTSTART;TZID=Europe/Stockholm:20260516T100000
DTEND;TZID=Europe/Stockholm:20260516T111500
SUMMARY:Extrapass - Runacademy Stockholm - Kungsholmen
LOCATION:Clarion Hotel Amaranten
SEQUENCE:0
END:VEVENT
BEGIN:VEVENT
UID:3431c11fab5da73463ebf24fa61ddf8e
DTSTAMP:20260423T155402Z
DTSTART;TZID=Europe/Stockholm:20260519T181500
DTEND;TZID=Europe/Stockholm:20260519T193000
SUMMARY:Pass 9 - Runacademy Stockholm - Kungsholmen
LOCATION:Clarion Hotel Amaranten
SEQUENCE:0
END:VEVENT
BEGIN:VEVENT
UID:ab8fe71f0b7da7bd0eb7217a538bb6dd
DTSTAMP:20260423T155402Z
DTSTART;TZID=Europe/Stockholm:20260526T181500
DTEND;TZID=Europe/Stockholm:20260526T193000
SUMMARY:Pass 10 - Runacademy Stockholm - Kungsholmen
LOCATION:Karlbergs Slott
SEQUENCE:0
END:VEVENT
BEGIN:VEVENT
UID:c454c90f617ff4fa26a2e3b2cd5d6cff
DTSTAMP:20260423T155402Z
DTSTART;TZID=Europe/Stockholm:20260602T181500
DTEND;TZID=Europe/Stockholm:20260602T193000
SUMMARY:Pass 11 - Runacademy Stockholm - Kungsholmen
LOCATION:Clarion Hotel Amaranten
SEQUENCE:0
END:VEVENT
BEGIN:VEVENT
UID:bdd5093b5d1fa806baf3b596c89c821c
DTSTAMP:20260423T155402Z
DTSTART;TZID=Europe/Stockholm:20260609T181500
DTEND;TZID=Europe/Stockholm:20260609T193000
SUMMARY:Pass 12 - Runacademy Stockholm - Kungsholmen
LOCATION:Clarion Hotel Amaranten
SEQUENCE:0
END:VEVENT
BEGIN:VEVENT
UID:703d09400f3936ff72e69f414f7d2b93
DTSTAMP:20260423T155402Z
DTSTART;TZID=Europe/Stockholm:20260616T181500
DTEND;TZID=Europe/Stockholm:20260616T193000
SUMMARY:Pass 13 - Runacademy Stockholm - Kungsholmen
LOCATION:Clarion Hotel Amaranten
SEQUENCE:0
END:VEVENT
END:VCALENDAR
